{"text_format":"1","workbook":"xlsx","n_sheets":3,"sheets":["Game","Solution","Show_Solution"],"not_rendered":{"charts":0,"images":6,"macros":1,"external_links":0,"defined_names":27,"comments":0,"pivot_tables":0},"unopened":[],"bounds":{"document_bytes":16777216,"sheet_cells":100000,"rows_first":2000,"rows_last":500,"rows_between":2000,"halvings":0,"cell_chars":16384,"cell_head_chars":4096},"cells_cut":0,"cells_raw":0,"read":"whole","date_system":"1900"}

{"sheet":"Game","index":0,"n_rows":1,"n_cols":1,"rows_kept":1,"cut":false,"hidden":false,"merged":[]}
["Timer:"]

{"sheet":"Solution","index":1,"n_rows":10,"n_cols":10,"rows_kept":10,"cut":false,"hidden":true,"merged":[]}
[]
[null,1,5,6,4,8,7,3,9,2]
[null,4,2,8,5,9,3,6,1,7]
[null,7,9,3,6,1,2,8,4,5]
[null,5,6,2,7,4,8,9,3,1]
[null,9,3,1,2,5,6,4,7,8]
[null,8,4,7,1,3,9,2,5,6]
[null,2,1,4,9,6,5,7,8,3]
[null,6,8,9,3,7,1,5,2,4]
[null,3,7,5,8,2,4,1,6,9]

{"sheet":"Show_Solution","index":2,"n_rows":12,"n_cols":11,"rows_kept":12,"cut":false,"hidden":true,"merged":[]}
[]
[]
[]
[null,null,{"$f":"Solution!B2","v":1},{"$f":"Solution!C2","v":5},{"$f":"Solution!D2","v":6},{"$f":"Solution!E2","v":4},{"$f":"Solution!F2","v":8},{"$f":"Solution!G2","v":7},{"$f":"Solution!H2","v":3},{"$f":"Solution!I2","v":9},{"$f":"Solution!J2","v":2}]
[null,null,{"$f":"Solution!B3","v":4},{"$f":"Solution!C3","v":2},{"$f":"Solution!D3","v":8},{"$f":"Solution!E3","v":5},{"$f":"Solution!F3","v":9},{"$f":"Solution!G3","v":3},{"$f":"Solution!H3","v":6},{"$f":"Solution!I3","v":1},{"$f":"Solution!J3","v":7}]
[null,null,{"$f":"Solution!B4","v":7},{"$f":"Solution!C4","v":9},{"$f":"Solution!D4","v":3},{"$f":"Solution!E4","v":6},{"$f":"Solution!F4","v":1},{"$f":"Solution!G4","v":2},{"$f":"Solution!H4","v":8},{"$f":"Solution!I4","v":4},{"$f":"Solution!J4","v":5}]
[null,null,{"$f":"Solution!B5","v":5},{"$f":"Solution!C5","v":6},{"$f":"Solution!D5","v":2},{"$f":"Solution!E5","v":7},{"$f":"Solution!F5","v":4},{"$f":"Solution!G5","v":8},{"$f":"Solution!H5","v":9},{"$f":"Solution!I5","v":3},{"$f":"Solution!J5","v":1}]
[null,null,{"$f":"Solution!B6","v":9},{"$f":"Solution!C6","v":3},{"$f":"Solution!D6","v":1},{"$f":"Solution!E6","v":2},{"$f":"Solution!F6","v":5},{"$f":"Solution!G6","v":6},{"$f":"Solution!H6","v":4},{"$f":"Solution!I6","v":7},{"$f":"Solution!J6","v":8}]
[null,null,{"$f":"Solution!B7","v":8},{"$f":"Solution!C7","v":4},{"$f":"Solution!D7","v":7},{"$f":"Solution!E7","v":1},{"$f":"Solution!F7","v":3},{"$f":"Solution!G7","v":9},{"$f":"Solution!H7","v":2},{"$f":"Solution!I7","v":5},{"$f":"Solution!J7","v":6}]
[null,null,{"$f":"Solution!B8","v":2},{"$f":"Solution!C8","v":1},{"$f":"Solution!D8","v":4},{"$f":"Solution!E8","v":9},{"$f":"Solution!F8","v":6},{"$f":"Solution!G8","v":5},{"$f":"Solution!H8","v":7},{"$f":"Solution!I8","v":8},{"$f":"Solution!J8","v":3}]
[null,null,{"$f":"Solution!B9","v":6},{"$f":"Solution!C9","v":8},{"$f":"Solution!D9","v":9},{"$f":"Solution!E9","v":3},{"$f":"Solution!F9","v":7},{"$f":"Solution!G9","v":1},{"$f":"Solution!H9","v":5},{"$f":"Solution!I9","v":2},{"$f":"Solution!J9","v":4}]
[null,null,{"$f":"Solution!B10","v":3},{"$f":"Solution!C10","v":7},{"$f":"Solution!D10","v":5},{"$f":"Solution!E10","v":8},{"$f":"Solution!F10","v":2},{"$f":"Solution!G10","v":4},{"$f":"Solution!H10","v":1},{"$f":"Solution!I10","v":6},{"$f":"Solution!J10","v":9}]